BEGIN:VCALENDAR
VERSION:2.0
PRODID:-//99.3 The River - ECPv4.6.26//NONSGML v1.0//EN
CALSCALE:GREGORIAN
METHOD:PUBLISH
X-WR-CALNAME:99.3 The River
X-ORIGINAL-URL:https://993theriver.com
X-WR-CALDESC:Events for 99.3 The River
BEGIN:VEVENT
DTSTART;TZID=America/Halifax:20181127T183000
DTEND;TZID=America/Halifax:20181127T183000
DTSTAMP:20260421T022147
CREATED:20181127T164957Z
LAST-MODIFIED:20181127T164957Z
UID:7015-1543343400-1543343400@993theriver.com
SUMMARY:Adoption Support Network Events
DESCRIPTION:Are you an adoptive parent\, have you been adopted or are you waiting to adopt? We at the Adoption Support Network host events\, workshops and support groups to help create an environment for the adoption community to share stories and offer support to each other. \nWe have two events in coming up in Miramichi \nOn November 27\, we are getting together to go watch the new movie “Instant Family” at the Cineplex in Miramichi at 6:40pm. \nOn December December 16\, from 11:30 to 1:30\, we have our Family Winter Social at the Seamen’s Hospital in Douglastown. \nKeep up with all the events posted our Facebook Page:\nhttps://www.facebook.com/pg/NBadoption/events/\, friend me @maisie.mcintyre.9480 or I can also be reached at 506-626-0651 \n
URL:https://993theriver.com/event/adoption-support-network-events/2018-11-27/
END:VEVENT
END:VCALENDAR