BEGIN:VCALENDAR
VERSION:2.0
PRODID:-//99.3 The River - ECPv4.6.26//NONSGML v1.0//EN
CALSCALE:GREGORIAN
METHOD:PUBLISH
X-WR-CALNAME:99.3 The River
X-ORIGINAL-URL:https://993theriver.com
X-WR-CALDESC:Events for 99.3 The River
BEGIN:VEVENT
DTSTART;TZID=America/Halifax:20171228T190000
DTEND;TZID=America/Halifax:20171228T190000
DTSTAMP:20260422T180004
CREATED:20171219T153530Z
LAST-MODIFIED:20171226T235426Z
UID:5451-1514487600-1514487600@993theriver.com
SUMMARY:A Tribute to Lloyd Cameron
DESCRIPTION: \n
URL:https://993theriver.com/event/a-tribute-to-mr-c/
END:VEVENT
END:VCALENDAR