BEGIN:VCALENDAR
VERSION:2.0
PRODID:-//99.3 The River - ECPv4.6.26//NONSGML v1.0//EN
CALSCALE:GREGORIAN
METHOD:PUBLISH
X-WR-CALNAME:99.3 The River
X-ORIGINAL-URL:https://993theriver.com
X-WR-CALDESC:Events for 99.3 The River
BEGIN:VEVENT
DTSTART;TZID=America/Halifax:20210821T130000
DTEND;TZID=America/Halifax:20210821T130000
DTSTAMP:20260424T141844
CREATED:20210818T123842Z
LAST-MODIFIED:20210818T123842Z
UID:15054-1629550800-1629550800@993theriver.com
SUMMARY:6th Annual Joey White Memorial Bike Run
DESCRIPTION: \n
URL:https://993theriver.com/event/6th-annual-joey-white-memorial-bike-run/
CATEGORIES:Fundraiser
END:VEVENT
END:VCALENDAR