BEGIN:VCALENDAR
VERSION:2.0
PRODID:-//99.3 The River - ECPv4.6.26//NONSGML v1.0//EN
CALSCALE:GREGORIAN
METHOD:PUBLISH
X-WR-CALNAME:99.3 The River
X-ORIGINAL-URL:https://993theriver.com
X-WR-CALDESC:Events for 99.3 The River
BEGIN:VEVENT
DTSTART;TZID=America/Halifax:20180907T100000
DTEND;TZID=America/Halifax:20180907T210000
DTSTAMP:20260421T190240
CREATED:20180904T164455Z
LAST-MODIFIED:20180904T164747Z
UID:6330-1536314400-1536354000@993theriver.com
SUMMARY:Ten Thousand Villages
DESCRIPTION:Friday\, Sept 7 2018 \n10:00 am to 9:00 pm \nMiramichi Annual Ten Thousand Villages Sale \nSaint Andrew’s Anglican Church Hall \n214 Pleasant Street in the former Town of Newcastle (Miramichi West)\, \nFor more information\, contact Mrs. Olive Trevors at 1-506-622-2711. \n  \nTen Thousand Villages is more than just a sale. It’s a place where you can explore and connect with your global village. Every product from this sale is alive with the culture\, personality and traditions of the person who made it. Each purchase improves the lives of makers by supporting their craft and providing a fair and stable income. Artisans in developing countries can then bring their products and stories to this event through long – term fair trading relationships. This lays the groundwork for sustainable change to allow people a chance to take charge on their own lives and: Put Food On Their Table Send Their Children To School Keep Their Family Healthy The sale also encourages: Good Working Conditions Design Collaborations Eco-Conscious Commitments Between Buyer and Seller So\, mark your calendars\, bring a friend or a family member out to the Miramichi Annual Ten Thousand Villages Sale! \n
URL:https://993theriver.com/event/6330/
END:VEVENT
END:VCALENDAR