BEGIN:VCALENDAR
VERSION:2.0
PRODID:-//99.3 The River - ECPv4.6.26//NONSGML v1.0//EN
CALSCALE:GREGORIAN
METHOD:PUBLISH
X-WR-CALNAME:99.3 The River
X-ORIGINAL-URL:https://993theriver.com
X-WR-CALDESC:Events for 99.3 The River
BEGIN:VEVENT
DTSTART;VALUE=DATE:20170806
DTEND;VALUE=DATE:20170807
DTSTAMP:20260422T043047
CREATED:20170806T143817Z
LAST-MODIFIED:20170806T143920Z
UID:3730-1501977600-1502063999@993theriver.com
SUMMARY:60th Miramichi Folksong Festival
DESCRIPTION: \n  \nCLICK HERE FOR THE COMPLETE SCHEDULE \n  \n
URL:https://993theriver.com/event/60th-miramichi-folksong-festival/2017-08-06/
END:VEVENT
END:VCALENDAR