BEGIN:VCALENDAR
VERSION:2.0
PRODID:-//99.3 The River - ECPv4.6.26//NONSGML v1.0//EN
CALSCALE:GREGORIAN
METHOD:PUBLISH
X-WR-CALNAME:99.3 The River
X-ORIGINAL-URL:https://993theriver.com
X-WR-CALDESC:Events for 99.3 The River
BEGIN:VEVENT
DTSTART;TZID=America/Halifax:20241128T140000
DTEND;TZID=America/Halifax:20241128T180000
DTSTAMP:20260423T112859
CREATED:20241026T121452Z
LAST-MODIFIED:20241026T121452Z
UID:23267-1732802400-1732816800@993theriver.com
SUMMARY:4th Annual Stuff a Police Cruiser
DESCRIPTION:RCMP 4th ANNUAL\nSTUFF A Police Cruiser\nWhere: Sunny Corner\, Doaktown and Blackville RCMP Detachments\nWhen: November 28thth 2024 from 2:00pm-6:00pm\nWhat: Non-perishable food items\, household and personal hygiene products\nAll items collected will be donated to local food banks to be distributed to those families in need this holiday season \n
URL:https://993theriver.com/event/4th-annual-stuff-a-police-cruiser/
CATEGORIES:Charity Events
END:VEVENT
END:VCALENDAR