BEGIN:VCALENDAR
VERSION:2.0
PRODID:-//99.3 The River - ECPv4.6.26//NONSGML v1.0//EN
CALSCALE:GREGORIAN
METHOD:PUBLISH
X-WR-CALNAME:99.3 The River
X-ORIGINAL-URL:https://993theriver.com
X-WR-CALDESC:Events for 99.3 The River
BEGIN:VEVENT
DTSTART;TZID=America/Halifax:20230419T080000
DTEND;TZID=America/Halifax:20230506T170000
DTSTAMP:20260425T125348
CREATED:20230419T133004Z
LAST-MODIFIED:20230419T133004Z
UID:19114-1681891200-1683392400@993theriver.com
SUMMARY:41st Annual Honours and Awards Night
DESCRIPTION:May 6 – The Rotary Club of Chatham will be hosting the 41st Annual Honours and Awards Night at the Miramichi Golf and Country Club on Saturday May 6th\, 2023. Receiving a Paul Harris Fellowship award is John & Connie Cavanaugh\, Roger Arsenault\, Charles Fives\, Paul Hill\, Anne Hebert\, and Denise  Ramsay. Receiving the Ron Morrison Memorial Vocational Service Award is Sherry Theriault. If you would like tickets to join the celebration\, the cost is $25.00 per person. Contact Valerie at 778-9995 \n
URL:https://993theriver.com/event/41st-annual-honours-and-awards-night/
END:VEVENT
END:VCALENDAR