BEGIN:VCALENDAR
VERSION:2.0
PRODID:-//99.3 The River - ECPv4.6.26//NONSGML v1.0//EN
CALSCALE:GREGORIAN
METHOD:PUBLISH
X-WR-CALNAME:99.3 The River
X-ORIGINAL-URL:https://993theriver.com
X-WR-CALDESC:Events for 99.3 The River
BEGIN:VEVENT
DTSTART;TZID=America/Halifax:20210909T130000
DTEND;TZID=America/Halifax:20210909T130000
DTSTAMP:20260419T172353
CREATED:20210906T234741Z
LAST-MODIFIED:20210906T234741Z
UID:15194-1631192400-1631192400@993theriver.com
SUMMARY:3rd Annual Hole Lotta Fun Golf Tournament
DESCRIPTION:Thursday\, September 9th at 1pm \nMiramichi Golf and Country Club \nShotgun Start Scramble \n$125 per player/ $500 per team of 4 \nIn support of Hospice Miramichi \n—- \nChance to win a Kia Carnival or Honda CRV with a Hole in One! \nOpportunity to claim our FIRST Place Prize (1 year gym/1 year spin/merch for River City Fitness Club & Rock Your Body Fitness) \nEnjoy 1 Fried pie\, per player\, from Gabi’s Pie Shoppe \nAccess to our Silent Auction (Prizes worth over $1000)\, 50/50\, BBQ and more! \n  \n
URL:https://993theriver.com/event/3rd-annual-hole-lotta-fun-golf-tournament/
CATEGORIES:Fundraiser
END:VEVENT
END:VCALENDAR