BEGIN:VCALENDAR
VERSION:2.0
PRODID:-//99.3 The River - ECPv4.6.26//NONSGML v1.0//EN
CALSCALE:GREGORIAN
METHOD:PUBLISH
X-WR-CALNAME:99.3 The River
X-ORIGINAL-URL:https://993theriver.com
X-WR-CALDESC:Events for 99.3 The River
BEGIN:VEVENT
DTSTART;TZID=America/Halifax:20190921T090000
DTEND;TZID=America/Halifax:20190921T140000
DTSTAMP:20260423T212450
CREATED:20190916T134736Z
LAST-MODIFIED:20190916T134736Z
UID:9158-1569056400-1569074400@993theriver.com
SUMMARY:3rd annual Fall Market
DESCRIPTION:Sponsored by the Historical Society of Church River\nWhere: The Old School House\, 419 Burnt Church Rd.\, Burnt Church (not Esgenoopetitj)\nWhen: September 21\, 2019  9 AM- 2 PM\nFresh garden vegetables\, pumpkins\, gourds and other produce for sale.Baked goods\, preserves and crafts\, Watkins products.Lunch 11AM-1 PM Pulled Pork Sandwiches\, Apple Pie and drinks available.\nPlease come and join the community of Burnt Church to celebrate the harvest this Fall. \n
URL:https://993theriver.com/event/3rd-annual-fall-market/
END:VEVENT
END:VCALENDAR