BEGIN:VCALENDAR
VERSION:2.0
PRODID:-//99.3 The River - ECPv4.6.26//NONSGML v1.0//EN
CALSCALE:GREGORIAN
METHOD:PUBLISH
X-WR-CALNAME:99.3 The River
X-ORIGINAL-URL:https://993theriver.com
X-WR-CALDESC:Events for 99.3 The River
BEGIN:VEVENT
DTSTART;TZID=UTC+1:20170815T173000
DTEND;TZID=UTC+1:20170815T203000
DTSTAMP:20260420T151251
CREATED:20170802T195420Z
LAST-MODIFIED:20170802T195420Z
UID:3722-1502818200-1502829000@993theriver.com
SUMMARY:2017 MVHS High School Football Tryouts 
DESCRIPTION:Start Tuesday\, August 15th\, 2017\, 5:30pm to 8:30pm  \nMVHS Rugby/Football Field \nFor further info\, email:   MVHS.Football.Coaches@hotmail.com \n
URL:https://993theriver.com/event/2017-mvhs-high-school-football-tryouts/
END:VEVENT
END:VCALENDAR